BEGIN:VCALENDAR
VERSION:2.0
PRODID:icalendar-ruby
CALSCALE:GREGORIAN
METHOD:PUBLISH
BEGIN:VEVENT
DTSTAMP:20260423T155850Z
UID:131-588939@gracebaptistcanton.com
DTSTART;VALUE=DATE:20260719
DTEND;VALUE=DATE:20260724
CLASS:PUBLIC
CREATED:20260422T155744
DESCRIPTION:Our 9-12 graders will be heading to Central PA for this summer 
 camp and cross-cultural missions experience. Students will learn how they 
 can be part of reaching isolated groups who have never heard the Gospel. 
LAST-MODIFIED:20260422T155744
LOCATION:
SUMMARY:Wayumi Expedition
URL;VALUE=URI:https://www.gracebaptistcanton.com/events/wayumi-expedition/2
 026-07-19
ATTACH;FILENAME=WAYUMI.png;FMTTYPE=image/png:https://dq5pwpg1q8ru0.cloudfro
 nt.net/2026/04/22/19/57/44/1127208d-0838-4037-b1e9-88587f626210/WAYUMI.png
END:VEVENT
END:VCALENDAR
